BEGIN:VCALENDAR
VERSION:2.0
PRODID:spatie/icalendar-generator
DESCRIPTION:Events from Sarah Vanell
X-WR-CALDESC:Events from Sarah Vanell
REFRESH-INTERVAL;VALUE=DURATION:PT1440M
X-PUBLISHED-TTL:PT1440M
BEGIN:VTIMEZONE
TZID:Etc/GMT+0
BEGIN:STANDARD
DTSTART:20250805T000000Z
TZOFFSETFROM:+0000
TZOFFSETTO:+0000
END:STANDARD
END:VTIMEZONE
BEGIN:VTIMEZONE
TZID:UTC
BEGIN:STANDARD
DTSTART:20250727T091735Z
TZOFFSETFROM:+0000
TZOFFSETTO:+0000
END:STANDARD
END:VTIMEZONE
BEGIN:VEVENT
UID:336-31
DTSTAMP:20260423T091735Z
SUMMARY:Private Event
LOCATION:
ORGANIZER;CN=Sarah Vanell:MAILTO:sarah.vanell@gmail.com
DTSTART;TZID=Etc/GMT+0;VALUE=DATE:20260502
DTEND;TZID=Etc/GMT+0;VALUE=DATE:20260503
X-ALT-DESC;FMTTYPE=TEXT/HTML:
CATEGORIES:General
URL;VALUE=URI:https://sarahvanell.com/mc-events/private-event-11/
METHOD:PUBLISH
END:VEVENT
END:VCALENDAR